BEGIN:VCALENDAR
VERSION:2.0
PRODID:-//Insulators 110 - ECPv6.2.2.1//NONSGML v1.0//EN
CALSCALE:GREGORIAN
METHOD:PUBLISH
X-WR-CALNAME:Insulators 110
X-ORIGINAL-URL:https://insulators110.com
X-WR-CALDESC:Events for Insulators 110
REFRESH-INTERVAL;VALUE=DURATION:PT1H
X-Robots-Tag:noindex
X-PUBLISHED-TTL:PT1H
BEGIN:VTIMEZONE
TZID:UTC
BEGIN:STANDARD
TZOFFSETFROM:+0000
TZOFFSETTO:+0000
TZNAME:UTC
DTSTART:20260101T000000
END:STANDARD
END:VTIMEZONE
BEGIN:VEVENT
DTSTART;VALUE=DATE:20260907
DTEND;VALUE=DATE:20260908
DTSTAMP:20260421T215352
CREATED:20260119T212244Z
LAST-MODIFIED:20260119T212244Z
UID:6168-1788739200-1788825599@insulators110.com
SUMMARY:Labour Day
DESCRIPTION:
URL:https://insulators110.com/event/labour-day-2/
LOCATION:Alberta
END:VEVENT
BEGIN:VEVENT
DTSTART;TZID=UTC:20260916T193000
DTEND;TZID=UTC:20260916T210000
DTSTAMP:20260421T215353
CREATED:20260119T211823Z
LAST-MODIFIED:20260119T211823Z
UID:6158-1789587000-1789592400@insulators110.com
SUMMARY:General Membership Meeting
DESCRIPTION:
URL:https://insulators110.com/event/general-membership-meeting-37/
LOCATION:Local 110 Union Hall\, 9335-47 Street\, Edmonton\, Alberta\, T6B 2R7\, Canada
END:VEVENT
BEGIN:VEVENT
DTSTART;VALUE=DATE:20260930
DTEND;VALUE=DATE:20261001
DTSTAMP:20260421T215353
CREATED:20260119T212321Z
LAST-MODIFIED:20260119T212321Z
UID:6170-1790726400-1790812799@insulators110.com
SUMMARY:National Day for Truth and Reconciliation
DESCRIPTION:
URL:https://insulators110.com/event/national-day-for-truth-and-reconciliation/
LOCATION:Alberta
END:VEVENT
END:VCALENDAR