BEGIN:VCALENDAR
VERSION:2.0
PRODID:-//Insulators 110 - ECPv6.2.2.1//NONSGML v1.0//EN
CALSCALE:GREGORIAN
METHOD:PUBLISH
X-ORIGINAL-URL:https://insulators110.com
X-WR-CALDESC:Events for Insulators 110
REFRESH-INTERVAL;VALUE=DURATION:PT1H
X-Robots-Tag:noindex
X-PUBLISHED-TTL:PT1H
BEGIN:VTIMEZONE
TZID:UTC
BEGIN:STANDARD
TZOFFSETFROM:+0000
TZOFFSETTO:+0000
TZNAME:UTC
DTSTART:20260101T000000
END:STANDARD
END:VTIMEZONE
BEGIN:VEVENT
DTSTART;VALUE=DATE:20261012
DTEND;VALUE=DATE:20261013
DTSTAMP:20260422T011527
CREATED:20260119T212350Z
LAST-MODIFIED:20260119T212350Z
UID:6172-1791763200-1791849599@insulators110.com
SUMMARY:Thanksgiving Day
DESCRIPTION:
URL:https://insulators110.com/event/thanksgiving-day-2/
LOCATION:Alberta
END:VEVENT
END:VCALENDAR